BEGIN:VCALENDAR
VERSION:2.0
PRODID:-//Camping La Roche d&#039;Or - Camping à Notre-Dame-des-Pins - ECPv6.2.6.1//NONSGML v1.0//EN
CALSCALE:GREGORIAN
METHOD:PUBLISH
X-WR-CALNAME:Camping La Roche d&#039;Or - Camping à Notre-Dame-des-Pins
X-ORIGINAL-URL:https://campinglarochedor.com
X-WR-CALDESC:évènements pour Camping La Roche d&#039;Or - Camping à Notre-Dame-des-Pins
REFRESH-INTERVAL;VALUE=DURATION:PT1H
X-Robots-Tag:noindex
X-PUBLISHED-TTL:PT1H
BEGIN:VTIMEZONE
TZID:America/New_York
BEGIN:DAYLIGHT
TZOFFSETFROM:-0500
TZOFFSETTO:-0400
TZNAME:EDT
DTSTART:20240310T070000
END:DAYLIGHT
BEGIN:STANDARD
TZOFFSETFROM:-0400
TZOFFSETTO:-0500
TZNAME:EST
DTSTART:20241103T060000
END:STANDARD
END:VTIMEZONE
BEGIN:VEVENT
DTSTART;VALUE=DATE:20240824
DTEND;VALUE=DATE:20240825
DTSTAMP:20260423T063757
CREATED:20231114T152759Z
LAST-MODIFIED:20231114T152759Z
UID:1462-1724457600-1724543999@campinglarochedor.com
SUMMARY:GROUPE LES POFFINS
DESCRIPTION:
URL:https://campinglarochedor.com/activite/groupe-les-poffins/
END:VEVENT
END:VCALENDAR